BEGIN:VCALENDAR
VERSION:2.0
PRODID:icalendar-ruby
CALSCALE:GREGORIAN
METHOD:PUBLISH
BEGIN:VEVENT
DTSTAMP:20260423T160606Z
UID:event-19719-2025-11-29T19:00:00+01:00-none
DTSTART;TZID=Europe/Madrid:20251129T190000
DESCRIPTION:Las crónicas de Lecumberri no dejan lugar para el optimismo y\
 , sin embargo\, su irresistible autenticidad conmueve\, en una época sign
 ada por la opacidad informativa\, la radicalización y la sospecha.
SUMMARY:Presentación del libro "Palestina\, la tierra estrecha"\, con Beat
 riz Lecumberri
END:VEVENT
END:VCALENDAR
