BEGIN:VCALENDAR
VERSION:2.0
PRODID:icalendar-ruby
CALSCALE:GREGORIAN
METHOD:PUBLISH
BEGIN:VEVENT
DTSTAMP:20260423T154731Z
UID:event-22241-2026-04-24T19:30:00+02:00-none
DTSTART;TZID=Europe/Madrid:20260424T193000
DESCRIPTION:En las últimas décadas\, la lógica punitiva se ha ido imponi
 endo en todas las esferas de la sociedad. Dentro del Estado\, hemos asisti
 do a un endurecimiento de las penas y a un crecimiento del número de efec
 tivos de la policía...
SUMMARY:Presentación del libro "Políticas del castigo. Una anatomía del 
 auge punitivo"
END:VEVENT
END:VCALENDAR
