BEGIN:VCALENDAR
VERSION:2.0
PRODID:icalendar-ruby
CALSCALE:GREGORIAN
METHOD:PUBLISH
BEGIN:VEVENT
DTSTAMP:20260419T125800Z
UID:event-4415-2022-12-31T13:00:00+01:00-none
DTSTART;TZID=Europe/Madrid:20221231T130000
DESCRIPTION:Alma\, una joven poeta santanderina\, acaba de publicar su prim
 er poemario y estará presentándolo el 31 de diciembre de 2022 a las 13:0
 0h en el Laboratorio de Identidades.
SUMMARY:Presentación del poemario "No sé si quiero que leas esto"
END:VEVENT
END:VCALENDAR
