BEGIN:VCALENDAR
VERSION:2.0
PRODID:icalendar-ruby
CALSCALE:GREGORIAN
METHOD:PUBLISH
BEGIN:VEVENT
DTSTAMP:20260421T221130Z
UID:event-977-2022-03-31T19:00:00+02:00-none
DTSTART;TZID=Europe/Madrid:20220331T190000
DESCRIPTION:¿Eres artista profesional y quieres que todo el mundo sepa dó
 nde estás? Edy Asenjo presenta el proyecto “The artist is here”\, con
  el apoyo del Ministerio de Cultura y la Dirección General de Industrias 
 Culturales.
SUMMARY:Presentación del proyecto "The artist is here"
END:VEVENT
END:VCALENDAR
