BEGIN:VCALENDAR
VERSION:2.0
PRODID:icalendar-ruby
CALSCALE:GREGORIAN
METHOD:PUBLISH
BEGIN:VEVENT
DTSTAMP:20260421T130001Z
UID:event-1130-2022-06-01T10:00:00+02:00-2022-06-01T14:00:00+02:00
DTSTART;TZID=Europe/Madrid:20220601T100000
DTEND;TZID=Europe/Madrid:20220601T140000
DESCRIPTION:La abogada especialista en el sector artístico y cultural\, Ev
 a Moraga\, que participó en la pasada edición del programa\, ofrecerá e
 ste taller telemático.
SUMMARY:Programa Aparejo. "Cómo preparar y formular proyectos para ayudas 
 y subvenciones”
END:VEVENT
BEGIN:VEVENT
DTSTAMP:20260421T130001Z
UID:event-1130-2022-06-02T10:00:00+02:00-2022-06-02T14:00:00+02:00
DTSTART;TZID=Europe/Madrid:20220602T100000
DTEND;TZID=Europe/Madrid:20220602T140000
DESCRIPTION:La abogada especialista en el sector artístico y cultural\, Ev
 a Moraga\, que participó en la pasada edición del programa\, ofrecerá e
 ste taller telemático.
SUMMARY:Programa Aparejo. "Cómo preparar y formular proyectos para ayudas 
 y subvenciones”
END:VEVENT
BEGIN:VEVENT
DTSTAMP:20260421T130001Z
UID:event-1130-2022-06-08T10:00:00+02:00-2022-06-08T14:00:00+02:00
DTSTART;TZID=Europe/Madrid:20220608T100000
DTEND;TZID=Europe/Madrid:20220608T140000
DESCRIPTION:La abogada especialista en el sector artístico y cultural\, Ev
 a Moraga\, que participó en la pasada edición del programa\, ofrecerá e
 ste taller telemático.
SUMMARY:Programa Aparejo. "Cómo preparar y formular proyectos para ayudas 
 y subvenciones”
END:VEVENT
BEGIN:VEVENT
DTSTAMP:20260421T130001Z
UID:event-1130-2022-06-09T10:00:00+02:00-2022-06-09T14:00:00+02:00
DTSTART;TZID=Europe/Madrid:20220609T100000
DTEND;TZID=Europe/Madrid:20220609T140000
DESCRIPTION:La abogada especialista en el sector artístico y cultural\, Ev
 a Moraga\, que participó en la pasada edición del programa\, ofrecerá e
 ste taller telemático.
SUMMARY:Programa Aparejo. "Cómo preparar y formular proyectos para ayudas 
 y subvenciones”
END:VEVENT
END:VCALENDAR
