BEGIN:VCALENDAR
VERSION:2.0
PRODID:icalendar-ruby
CALSCALE:GREGORIAN
METHOD:PUBLISH
BEGIN:VEVENT
DTSTAMP:20260421T130112Z
UID:event-12991-2024-10-11T10:00:00+02:00-2024-10-11T14:00:00+02:00
DTSTART;TZID=Europe/Madrid:20241011T100000
DTEND;TZID=Europe/Madrid:20241011T140000
DESCRIPTION:Dirigido a compañías\, grupos o colectivos de artes escénica
 s (teatro\, danza\, circo\, artes en vivo...) y música\, así como a bail
 arines\, coreógrafos\, actores\, dramaturgos\, directores de escena\, mú
 sicos\, compositores\, directores de orquesta...
SUMMARY:Programa Aparejo: Los Derechos de Autor (artes escénicas y de la m
 úsica)
END:VEVENT
END:VCALENDAR
