BEGIN:VCALENDAR
VERSION:2.0
PRODID:icalendar-ruby
CALSCALE:GREGORIAN
METHOD:PUBLISH
BEGIN:VEVENT
DTSTAMP:20260424T163251Z
UID:event-11083-2024-05-30T19:30:00+02:00-none
DTSTART;TZID=Europe/Madrid:20240530T193000
DESCRIPTION:KinoFilms presenta los cortometrajes de su fundador y director 
 Jacobo Chacón\, dando una ventana a su mundo creativo en evolución. 
SUMMARY:Proyección de cortos de Kino Films
END:VEVENT
END:VCALENDAR
