BEGIN:VCALENDAR
VERSION:2.0
PRODID:icalendar-ruby
CALSCALE:GREGORIAN
METHOD:PUBLISH
BEGIN:VEVENT
DTSTAMP:20260420T145126Z
UID:event-13261-2024-10-30T20:00:00+01:00-none
DTSTART;TZID=Europe/Madrid:20241030T200000
DESCRIPTION:Un viejo hechicero africano\, representante de una tradición s
 ecreta imperante en su etnia\, persigue a su hijo para destruirlo -según 
 dice- por no respetar sus mismos preceptos religiosos.
SUMMARY:Puntos de Fuga: "La luz (Yeelen)"\, de Souleymane Cissé (V.O.S.E.)
END:VEVENT
END:VCALENDAR
