BEGIN:VCALENDAR
VERSION:2.0
PRODID:icalendar-ruby
CALSCALE:GREGORIAN
METHOD:PUBLISH
BEGIN:VEVENT
DTSTAMP:20260421T164735Z
UID:event-11061-2024-05-30T17:30:00+02:00-none
DTSTART;TZID=Europe/Madrid:20240530T173000
DESCRIPTION:Inci\, presa política en la cárcel de Ankara\, acaba de ser l
 iberada. Perdura en su recuerdo la especial relación que tuvo dentro de a
 quellos muros con Baris\, un niño de 5 años hijo de otra reclusa... (FIL
 MAFFINITY)
SUMMARY:"Que no disparen a la cometa"\, de Tunç Basaran (V.O.S.E.)
END:VEVENT
END:VCALENDAR
