BEGIN:VCALENDAR
VERSION:2.0
PRODID:icalendar-ruby
CALSCALE:GREGORIAN
METHOD:PUBLISH
BEGIN:VEVENT
DTSTAMP:20260423T101518Z
UID:event-11641-2024-06-20T19:30:00+02:00-none
DTSTART;TZID=Europe/Madrid:20240620T193000
DESCRIPTION:La terapia que ha transformado a millones de personas. Una nuev
 a mentalidad que hará que te sientas cada día más contento\, que no te 
 enfades por pequeñeces y que goces de una gran autoestima.
SUMMARY:Rafael Santandreu presenta su libro "No hagas montañas de granos d
 e arena"
END:VEVENT
END:VCALENDAR
