BEGIN:VCALENDAR
VERSION:2.0
PRODID:icalendar-ruby
CALSCALE:GREGORIAN
METHOD:PUBLISH
BEGIN:VEVENT
DTSTAMP:20260424T165122Z
UID:event-18244-2025-09-30T19:00:00+02:00-none
DTSTART;TZID=Europe/Madrid:20250930T190000
DESCRIPTION:“Rarum” es el título de una serie de charlas sobre Histori
 a del Arte que se plantean con un enfoque claramente didáctico. El objeti
 vo es acercar el arte a todo tipo de púbico de forma sencilla y amena.
SUMMARY:"Rarum"\, charlas sobre Historia del Arte: Renacimiento\, Manierism
 o\, Barroco y Rococó
END:VEVENT
END:VCALENDAR
