BEGIN:VCALENDAR
VERSION:2.0
PRODID:icalendar-ruby
CALSCALE:GREGORIAN
METHOD:PUBLISH
BEGIN:VEVENT
DTSTAMP:20260421T165104Z
UID:event-6052-2023-08-14T20:30:00+02:00-none
DTSTART;TZID=Europe/Madrid:20230814T203000
DESCRIPTION:Juan Diego Flórez (Lima\, 1973) inició su carrera musical des
 de muy joven cantando y tocando música peruana\, pop y rock. Desde entonc
 es\, ha actuado de manera constante en los teatros y salas de concierto m
 ás importantes del mundo.
SUMMARY:Recital de Juan Diego Flórez junto a la orquesta Oviedo Filarmoní
 a
END:VEVENT
END:VCALENDAR
