BEGIN:VCALENDAR
VERSION:2.0
PRODID:icalendar-ruby
CALSCALE:GREGORIAN
METHOD:PUBLISH
BEGIN:VEVENT
DTSTAMP:20260420T161440Z
UID:event-22368-2026-04-20T20:00:00+02:00-none
DTSTART;TZID=Europe/Madrid:20260420T200000
DESCRIPTION:Reclaimed\, la nueva sensación del thrashcore galo\, llega a S
 antander por primera vez para presentar su primer y aclamado trabajo\, “
 Dead End”.
SUMMARY:Reclaimed y Midriasis en concierto
END:VEVENT
END:VCALENDAR
