BEGIN:VCALENDAR
VERSION:2.0
PRODID:icalendar-ruby
CALSCALE:GREGORIAN
METHOD:PUBLISH
BEGIN:VEVENT
DTSTAMP:20260423T204109Z
UID:event-22167-2026-04-25T20:00:00+02:00-none
DTSTART;TZID=Europe/Madrid:20260425T200000
DESCRIPTION:En “Porqué soy feminista” un grupo aficionado de teatro es
 tá montando una obra sobre la historia del feminismo y durante el ensayo 
 general un grave suceso las hará ver la cruda realidad de la ficción tea
 tral que estaban representando...
SUMMARY:Representación a cargo del grupo teatral “Ni una menos”
END:VEVENT
END:VCALENDAR
