BEGIN:VCALENDAR
VERSION:2.0
PRODID:icalendar-ruby
CALSCALE:GREGORIAN
METHOD:PUBLISH
BEGIN:VEVENT
DTSTAMP:20260421T165354Z
UID:event-3458-2022-11-02T20:30:00+01:00-2022-11-02T22:00:00+01:00
DTSTART;TZID=Europe/Madrid:20221102T203000
DTEND;TZID=Europe/Madrid:20221102T220000
DESCRIPTION:El escritor y poeta Marcos Díez dirigirá la “Reunión de so
 mbras”\, una sesión nocturna de narración de relatos relacionados con 
 lo misterioso\, lo enigmático o lo sobrenatural. 
SUMMARY:"Reunión de sombras". Sesión nocturna de narración de historias
END:VEVENT
END:VCALENDAR
