BEGIN:VCALENDAR
VERSION:2.0
PRODID:icalendar-ruby
CALSCALE:GREGORIAN
METHOD:PUBLISH
BEGIN:VEVENT
DTSTAMP:20260423T153738Z
UID:event-20008-2025-12-17T19:30:00+01:00-none
DTSTART;TZID=Europe/Madrid:20251217T193000
DESCRIPTION:La sala de la calle Bonifaz de Santander acoge este próximo me
 s\, en concreto el día 17\, una nueva retransmisión en directo de la tem
 porada de ópera desde el Teatro Campoamor de Oviedo.
SUMMARY:"Rigoletto"\, retransmisión en directo desde el Teatro Campoamor d
 e Oviedo
END:VEVENT
END:VCALENDAR
