BEGIN:VCALENDAR
VERSION:2.0
PRODID:icalendar-ruby
CALSCALE:GREGORIAN
METHOD:PUBLISH
BEGIN:VEVENT
DTSTAMP:20260421T165148Z
UID:event-15878-2025-03-31T19:00:00+02:00-none
DTSTART;TZID=Europe/Madrid:20250331T190000
DESCRIPTION:Será impartida por Antonio Cuesta\, capitán de la marina merc
 ante.
SUMMARY:"Rutas marítimas del comercio\, canales\, estrechos y grandes río
 s navegables"\, por Antonio Cuesta
END:VEVENT
END:VCALENDAR
