BEGIN:VCALENDAR
VERSION:2.0
PRODID:icalendar-ruby
CALSCALE:GREGORIAN
METHOD:PUBLISH
BEGIN:VEVENT
DTSTAMP:20260421T202619Z
UID:event-7370-2023-08-29T18:30:00+02:00-2023-08-29T23:00:00+02:00
DTSTART;TZID=Europe/Madrid:20230829T183000
DTEND;TZID=Europe/Madrid:20230829T230000
DESCRIPTION:Santander celebrará la festividad de sus patronos\, San Emeter
 io y San Celedonio\, con un amplio programa de actividades que se desarrol
 larán entre el 25 y el 30 de agosto con un especial protagonismo para los
  artistas locales.
SUMMARY:Santander celebra Los Santos Mártires: música\, actividades infan
 tiles y fuegos artificiales
END:VEVENT
END:VCALENDAR
