BEGIN:VCALENDAR
VERSION:2.0
PRODID:icalendar-ruby
CALSCALE:GREGORIAN
METHOD:PUBLISH
BEGIN:VEVENT
DTSTAMP:20260420T144100Z
UID:event-20174-2026-01-01T17:00:00+01:00-2026-01-01T22:00:00+01:00
DTSTART;TZID=Europe/Madrid:20260101T170000
DTEND;TZID=Europe/Madrid:20260101T220000
DESCRIPTION:Santander ha encendido su Navidad 2025\, dando inicio así a un
  programa repleto de actividades dirigidas especialmente para los más peq
 ueños. 
SUMMARY:Santander es Navidad: jueves 1 de enero
END:VEVENT
END:VCALENDAR
