BEGIN:VCALENDAR
VERSION:2.0
PRODID:icalendar-ruby
CALSCALE:GREGORIAN
METHOD:PUBLISH
BEGIN:VEVENT
DTSTAMP:20260421T170131Z
UID:event-15839-2025-06-11T19:00:00+02:00-none
DTSTART;TZID=Europe/Madrid:20250611T190000
DESCRIPTION:Una pieza de teatro físico\, texto\, danza y manipulación de 
 objetos creada e interpretada por Pol Para y Carmen Gómez. 
SUMMARY:Santander Escénica presenta “Parkking”\, de la compañía El P
 acto
END:VEVENT
END:VCALENDAR
