BEGIN:VCALENDAR
VERSION:2.0
PRODID:icalendar-ruby
CALSCALE:GREGORIAN
METHOD:PUBLISH
BEGIN:VEVENT
DTSTAMP:20260424T144503Z
UID:event-20908-2026-02-05T19:30:00+01:00-none
DTSTART;TZID=Europe/Madrid:20260205T193000
DESCRIPTION:Una invitación a romper hechizos\, cuestionar discursos oficia
 les y abrir un debate necesario sobre qué ciudad tenemos y qué ciudad qu
 eremos.
SUMMARY:"Santander ¿verde y saludable?"\, con Marisa Maliaño
END:VEVENT
END:VCALENDAR
