BEGIN:VCALENDAR
VERSION:2.0
PRODID:icalendar-ruby
CALSCALE:GREGORIAN
METHOD:PUBLISH
BEGIN:VEVENT
DTSTAMP:20260424T144337Z
UID:event-16846-2025-06-04T19:30:00+02:00-none
DTSTART;TZID=Europe/Madrid:20250604T193000
DESCRIPTION:Intentará dar respuesta a las preguntas: Santander\, ¿es verd
 e y saludable? ¿Qué dicen los datos? ¿Porqué el ayuntamiento rechazó 
 aspirar a ser "ciudad verde europea"? ¿Qué es eso de "Santander ciudad n
 atural"?
SUMMARY:"Santander ¿verde y saludable?"\, con Marisa Maliaño
END:VEVENT
END:VCALENDAR
