BEGIN:VCALENDAR
VERSION:2.0
PRODID:icalendar-ruby
CALSCALE:GREGORIAN
METHOD:PUBLISH
BEGIN:VEVENT
DTSTAMP:20260421T161942Z
UID:event-15515-2025-06-07T19:30:00+02:00-none
DTSTART;TZID=Europe/Madrid:20250607T193000
DESCRIPTION:Shado\, el ilusionista que dejó sin palabras a Risto Mejide en
  Got Talent\, llega con su espectáculo Cleptómago\, un show donde la mag
 ia se vive al límite.
SUMMARY:Shado llega con su espectáculo "Cleptómago"
END:VEVENT
END:VCALENDAR
