BEGIN:VCALENDAR
VERSION:2.0
PRODID:icalendar-ruby
CALSCALE:GREGORIAN
METHOD:PUBLISH
BEGIN:VEVENT
DTSTAMP:20260424T144223Z
UID:event-4833-2023-02-02T19:30:00+01:00-none
DTSTART;TZID=Europe/Madrid:20230202T193000
DESCRIPTION:El androcentrismo y la explotación de los recursos naturales e
 stán legitimados por la cultura occidental y las religiones monoteístas.
  Pero\, ¿qué dice la ciencia? ¿es la vida competición o colaboración?
  
SUMMARY:"¿Son machistas los microbios?. Del origen de la vida al ecofemini
 smo"\, por Marisa Maliaño Toca
END:VEVENT
END:VCALENDAR
