BEGIN:VCALENDAR
VERSION:2.0
PRODID:icalendar-ruby
CALSCALE:GREGORIAN
METHOD:PUBLISH
BEGIN:VEVENT
DTSTAMP:20260423T154634Z
UID:event-3900-2022-11-11T20:00:00+01:00-none
DTSTART;TZID=Europe/Madrid:20221111T200000
DESCRIPTION:Raúl Real nos ofrece un puñado de historias que se desarrolla
 n en ambientes marginales o periféricos.
SUMMARY:"Sopa de Batman"\, charla y canciones con Raúl Real
END:VEVENT
END:VCALENDAR
