BEGIN:VCALENDAR
VERSION:2.0
PRODID:icalendar-ruby
CALSCALE:GREGORIAN
METHOD:PUBLISH
BEGIN:VEVENT
DTSTAMP:20260421T234310Z
UID:event-2532-2022-07-18-2022-07-18
DTSTART;VALUE=DATE:20220718
DTEND;VALUE=DATE:20220718
DESCRIPTION:Instalación artística en colaboración con la Autoridad Portu
 aria de Santander\, que podrá contemplarse en el exterior del Centro de A
 rte Cabo Mayor\, del 18 julio al 15 de septiembre.
SUMMARY:SpY. Escultura Kinética
END:VEVENT
BEGIN:VEVENT
DTSTAMP:20260421T234310Z
UID:event-2532-2022-07-19-2022-07-19
DTSTART;VALUE=DATE:20220719
DTEND;VALUE=DATE:20220719
DESCRIPTION:Instalación artística en colaboración con la Autoridad Portu
 aria de Santander\, que podrá contemplarse en el exterior del Centro de A
 rte Cabo Mayor\, del 18 julio al 15 de septiembre.
SUMMARY:SpY. Escultura Kinética
END:VEVENT
BEGIN:VEVENT
DTSTAMP:20260421T234310Z
UID:event-2532-2022-07-20-2022-07-20
DTSTART;VALUE=DATE:20220720
DTEND;VALUE=DATE:20220720
DESCRIPTION:Instalación artística en colaboración con la Autoridad Portu
 aria de Santander\, que podrá contemplarse en el exterior del Centro de A
 rte Cabo Mayor\, del 18 julio al 15 de septiembre.
SUMMARY:SpY. Escultura Kinética
END:VEVENT
BEGIN:VEVENT
DTSTAMP:20260421T234310Z
UID:event-2532-2022-07-21-2022-07-21
DTSTART;VALUE=DATE:20220721
DTEND;VALUE=DATE:20220721
DESCRIPTION:Instalación artística en colaboración con la Autoridad Portu
 aria de Santander\, que podrá contemplarse en el exterior del Centro de A
 rte Cabo Mayor\, del 18 julio al 15 de septiembre.
SUMMARY:SpY. Escultura Kinética
END:VEVENT
BEGIN:VEVENT
DTSTAMP:20260421T234310Z
UID:event-2532-2022-07-22-2022-07-22
DTSTART;VALUE=DATE:20220722
DTEND;VALUE=DATE:20220722
DESCRIPTION:Instalación artística en colaboración con la Autoridad Portu
 aria de Santander\, que podrá contemplarse en el exterior del Centro de A
 rte Cabo Mayor\, del 18 julio al 15 de septiembre.
SUMMARY:SpY. Escultura Kinética
END:VEVENT
BEGIN:VEVENT
DTSTAMP:20260421T234310Z
UID:event-2532-2022-07-23-2022-07-23
DTSTART;VALUE=DATE:20220723
DTEND;VALUE=DATE:20220723
DESCRIPTION:Instalación artística en colaboración con la Autoridad Portu
 aria de Santander\, que podrá contemplarse en el exterior del Centro de A
 rte Cabo Mayor\, del 18 julio al 15 de septiembre.
SUMMARY:SpY. Escultura Kinética
END:VEVENT
BEGIN:VEVENT
DTSTAMP:20260421T234310Z
UID:event-2532-2022-07-24-2022-07-24
DTSTART;VALUE=DATE:20220724
DTEND;VALUE=DATE:20220724
DESCRIPTION:Instalación artística en colaboración con la Autoridad Portu
 aria de Santander\, que podrá contemplarse en el exterior del Centro de A
 rte Cabo Mayor\, del 18 julio al 15 de septiembre.
SUMMARY:SpY. Escultura Kinética
END:VEVENT
BEGIN:VEVENT
DTSTAMP:20260421T234310Z
UID:event-2532-2022-07-25-2022-07-25
DTSTART;VALUE=DATE:20220725
DTEND;VALUE=DATE:20220725
DESCRIPTION:Instalación artística en colaboración con la Autoridad Portu
 aria de Santander\, que podrá contemplarse en el exterior del Centro de A
 rte Cabo Mayor\, del 18 julio al 15 de septiembre.
SUMMARY:SpY. Escultura Kinética
END:VEVENT
BEGIN:VEVENT
DTSTAMP:20260421T234310Z
UID:event-2532-2022-07-26-2022-07-26
DTSTART;VALUE=DATE:20220726
DTEND;VALUE=DATE:20220726
DESCRIPTION:Instalación artística en colaboración con la Autoridad Portu
 aria de Santander\, que podrá contemplarse en el exterior del Centro de A
 rte Cabo Mayor\, del 18 julio al 15 de septiembre.
SUMMARY:SpY. Escultura Kinética
END:VEVENT
BEGIN:VEVENT
DTSTAMP:20260421T234310Z
UID:event-2532-2022-07-27-2022-07-27
DTSTART;VALUE=DATE:20220727
DTEND;VALUE=DATE:20220727
DESCRIPTION:Instalación artística en colaboración con la Autoridad Portu
 aria de Santander\, que podrá contemplarse en el exterior del Centro de A
 rte Cabo Mayor\, del 18 julio al 15 de septiembre.
SUMMARY:SpY. Escultura Kinética
END:VEVENT
BEGIN:VEVENT
DTSTAMP:20260421T234310Z
UID:event-2532-2022-07-28-2022-07-28
DTSTART;VALUE=DATE:20220728
DTEND;VALUE=DATE:20220728
DESCRIPTION:Instalación artística en colaboración con la Autoridad Portu
 aria de Santander\, que podrá contemplarse en el exterior del Centro de A
 rte Cabo Mayor\, del 18 julio al 15 de septiembre.
SUMMARY:SpY. Escultura Kinética
END:VEVENT
BEGIN:VEVENT
DTSTAMP:20260421T234310Z
UID:event-2532-2022-07-29-2022-07-29
DTSTART;VALUE=DATE:20220729
DTEND;VALUE=DATE:20220729
DESCRIPTION:Instalación artística en colaboración con la Autoridad Portu
 aria de Santander\, que podrá contemplarse en el exterior del Centro de A
 rte Cabo Mayor\, del 18 julio al 15 de septiembre.
SUMMARY:SpY. Escultura Kinética
END:VEVENT
BEGIN:VEVENT
DTSTAMP:20260421T234310Z
UID:event-2532-2022-07-30-2022-07-30
DTSTART;VALUE=DATE:20220730
DTEND;VALUE=DATE:20220730
DESCRIPTION:Instalación artística en colaboración con la Autoridad Portu
 aria de Santander\, que podrá contemplarse en el exterior del Centro de A
 rte Cabo Mayor\, del 18 julio al 15 de septiembre.
SUMMARY:SpY. Escultura Kinética
END:VEVENT
BEGIN:VEVENT
DTSTAMP:20260421T234310Z
UID:event-2532-2022-07-31-2022-07-31
DTSTART;VALUE=DATE:20220731
DTEND;VALUE=DATE:20220731
DESCRIPTION:Instalación artística en colaboración con la Autoridad Portu
 aria de Santander\, que podrá contemplarse en el exterior del Centro de A
 rte Cabo Mayor\, del 18 julio al 15 de septiembre.
SUMMARY:SpY. Escultura Kinética
END:VEVENT
BEGIN:VEVENT
DTSTAMP:20260421T234310Z
UID:event-2532-2022-08-01-2022-08-01
DTSTART;VALUE=DATE:20220801
DTEND;VALUE=DATE:20220801
DESCRIPTION:Instalación artística en colaboración con la Autoridad Portu
 aria de Santander\, que podrá contemplarse en el exterior del Centro de A
 rte Cabo Mayor\, del 18 julio al 15 de septiembre.
SUMMARY:SpY. Escultura Kinética
END:VEVENT
BEGIN:VEVENT
DTSTAMP:20260421T234310Z
UID:event-2532-2022-08-02-2022-08-02
DTSTART;VALUE=DATE:20220802
DTEND;VALUE=DATE:20220802
DESCRIPTION:Instalación artística en colaboración con la Autoridad Portu
 aria de Santander\, que podrá contemplarse en el exterior del Centro de A
 rte Cabo Mayor\, del 18 julio al 15 de septiembre.
SUMMARY:SpY. Escultura Kinética
END:VEVENT
BEGIN:VEVENT
DTSTAMP:20260421T234310Z
UID:event-2532-2022-08-03-2022-08-03
DTSTART;VALUE=DATE:20220803
DTEND;VALUE=DATE:20220803
DESCRIPTION:Instalación artística en colaboración con la Autoridad Portu
 aria de Santander\, que podrá contemplarse en el exterior del Centro de A
 rte Cabo Mayor\, del 18 julio al 15 de septiembre.
SUMMARY:SpY. Escultura Kinética
END:VEVENT
BEGIN:VEVENT
DTSTAMP:20260421T234310Z
UID:event-2532-2022-08-04-2022-08-04
DTSTART;VALUE=DATE:20220804
DTEND;VALUE=DATE:20220804
DESCRIPTION:Instalación artística en colaboración con la Autoridad Portu
 aria de Santander\, que podrá contemplarse en el exterior del Centro de A
 rte Cabo Mayor\, del 18 julio al 15 de septiembre.
SUMMARY:SpY. Escultura Kinética
END:VEVENT
BEGIN:VEVENT
DTSTAMP:20260421T234310Z
UID:event-2532-2022-08-05-2022-08-05
DTSTART;VALUE=DATE:20220805
DTEND;VALUE=DATE:20220805
DESCRIPTION:Instalación artística en colaboración con la Autoridad Portu
 aria de Santander\, que podrá contemplarse en el exterior del Centro de A
 rte Cabo Mayor\, del 18 julio al 15 de septiembre.
SUMMARY:SpY. Escultura Kinética
END:VEVENT
BEGIN:VEVENT
DTSTAMP:20260421T234310Z
UID:event-2532-2022-08-06-2022-08-06
DTSTART;VALUE=DATE:20220806
DTEND;VALUE=DATE:20220806
DESCRIPTION:Instalación artística en colaboración con la Autoridad Portu
 aria de Santander\, que podrá contemplarse en el exterior del Centro de A
 rte Cabo Mayor\, del 18 julio al 15 de septiembre.
SUMMARY:SpY. Escultura Kinética
END:VEVENT
BEGIN:VEVENT
DTSTAMP:20260421T234310Z
UID:event-2532-2022-08-07-2022-08-07
DTSTART;VALUE=DATE:20220807
DTEND;VALUE=DATE:20220807
DESCRIPTION:Instalación artística en colaboración con la Autoridad Portu
 aria de Santander\, que podrá contemplarse en el exterior del Centro de A
 rte Cabo Mayor\, del 18 julio al 15 de septiembre.
SUMMARY:SpY. Escultura Kinética
END:VEVENT
BEGIN:VEVENT
DTSTAMP:20260421T234310Z
UID:event-2532-2022-08-08-2022-08-08
DTSTART;VALUE=DATE:20220808
DTEND;VALUE=DATE:20220808
DESCRIPTION:Instalación artística en colaboración con la Autoridad Portu
 aria de Santander\, que podrá contemplarse en el exterior del Centro de A
 rte Cabo Mayor\, del 18 julio al 15 de septiembre.
SUMMARY:SpY. Escultura Kinética
END:VEVENT
BEGIN:VEVENT
DTSTAMP:20260421T234310Z
UID:event-2532-2022-08-09-2022-08-09
DTSTART;VALUE=DATE:20220809
DTEND;VALUE=DATE:20220809
DESCRIPTION:Instalación artística en colaboración con la Autoridad Portu
 aria de Santander\, que podrá contemplarse en el exterior del Centro de A
 rte Cabo Mayor\, del 18 julio al 15 de septiembre.
SUMMARY:SpY. Escultura Kinética
END:VEVENT
BEGIN:VEVENT
DTSTAMP:20260421T234310Z
UID:event-2532-2022-08-10-2022-08-10
DTSTART;VALUE=DATE:20220810
DTEND;VALUE=DATE:20220810
DESCRIPTION:Instalación artística en colaboración con la Autoridad Portu
 aria de Santander\, que podrá contemplarse en el exterior del Centro de A
 rte Cabo Mayor\, del 18 julio al 15 de septiembre.
SUMMARY:SpY. Escultura Kinética
END:VEVENT
BEGIN:VEVENT
DTSTAMP:20260421T234310Z
UID:event-2532-2022-08-11-2022-08-11
DTSTART;VALUE=DATE:20220811
DTEND;VALUE=DATE:20220811
DESCRIPTION:Instalación artística en colaboración con la Autoridad Portu
 aria de Santander\, que podrá contemplarse en el exterior del Centro de A
 rte Cabo Mayor\, del 18 julio al 15 de septiembre.
SUMMARY:SpY. Escultura Kinética
END:VEVENT
BEGIN:VEVENT
DTSTAMP:20260421T234310Z
UID:event-2532-2022-08-12-2022-08-12
DTSTART;VALUE=DATE:20220812
DTEND;VALUE=DATE:20220812
DESCRIPTION:Instalación artística en colaboración con la Autoridad Portu
 aria de Santander\, que podrá contemplarse en el exterior del Centro de A
 rte Cabo Mayor\, del 18 julio al 15 de septiembre.
SUMMARY:SpY. Escultura Kinética
END:VEVENT
BEGIN:VEVENT
DTSTAMP:20260421T234310Z
UID:event-2532-2022-08-13-2022-08-13
DTSTART;VALUE=DATE:20220813
DTEND;VALUE=DATE:20220813
DESCRIPTION:Instalación artística en colaboración con la Autoridad Portu
 aria de Santander\, que podrá contemplarse en el exterior del Centro de A
 rte Cabo Mayor\, del 18 julio al 15 de septiembre.
SUMMARY:SpY. Escultura Kinética
END:VEVENT
BEGIN:VEVENT
DTSTAMP:20260421T234310Z
UID:event-2532-2022-08-14-2022-08-14
DTSTART;VALUE=DATE:20220814
DTEND;VALUE=DATE:20220814
DESCRIPTION:Instalación artística en colaboración con la Autoridad Portu
 aria de Santander\, que podrá contemplarse en el exterior del Centro de A
 rte Cabo Mayor\, del 18 julio al 15 de septiembre.
SUMMARY:SpY. Escultura Kinética
END:VEVENT
BEGIN:VEVENT
DTSTAMP:20260421T234310Z
UID:event-2532-2022-08-15-2022-08-15
DTSTART;VALUE=DATE:20220815
DTEND;VALUE=DATE:20220815
DESCRIPTION:Instalación artística en colaboración con la Autoridad Portu
 aria de Santander\, que podrá contemplarse en el exterior del Centro de A
 rte Cabo Mayor\, del 18 julio al 15 de septiembre.
SUMMARY:SpY. Escultura Kinética
END:VEVENT
BEGIN:VEVENT
DTSTAMP:20260421T234310Z
UID:event-2532-2022-08-16-2022-08-16
DTSTART;VALUE=DATE:20220816
DTEND;VALUE=DATE:20220816
DESCRIPTION:Instalación artística en colaboración con la Autoridad Portu
 aria de Santander\, que podrá contemplarse en el exterior del Centro de A
 rte Cabo Mayor\, del 18 julio al 15 de septiembre.
SUMMARY:SpY. Escultura Kinética
END:VEVENT
BEGIN:VEVENT
DTSTAMP:20260421T234310Z
UID:event-2532-2022-08-17-2022-08-17
DTSTART;VALUE=DATE:20220817
DTEND;VALUE=DATE:20220817
DESCRIPTION:Instalación artística en colaboración con la Autoridad Portu
 aria de Santander\, que podrá contemplarse en el exterior del Centro de A
 rte Cabo Mayor\, del 18 julio al 15 de septiembre.
SUMMARY:SpY. Escultura Kinética
END:VEVENT
BEGIN:VEVENT
DTSTAMP:20260421T234310Z
UID:event-2532-2022-08-18-2022-08-18
DTSTART;VALUE=DATE:20220818
DTEND;VALUE=DATE:20220818
DESCRIPTION:Instalación artística en colaboración con la Autoridad Portu
 aria de Santander\, que podrá contemplarse en el exterior del Centro de A
 rte Cabo Mayor\, del 18 julio al 15 de septiembre.
SUMMARY:SpY. Escultura Kinética
END:VEVENT
BEGIN:VEVENT
DTSTAMP:20260421T234310Z
UID:event-2532-2022-08-19-2022-08-19
DTSTART;VALUE=DATE:20220819
DTEND;VALUE=DATE:20220819
DESCRIPTION:Instalación artística en colaboración con la Autoridad Portu
 aria de Santander\, que podrá contemplarse en el exterior del Centro de A
 rte Cabo Mayor\, del 18 julio al 15 de septiembre.
SUMMARY:SpY. Escultura Kinética
END:VEVENT
BEGIN:VEVENT
DTSTAMP:20260421T234310Z
UID:event-2532-2022-08-20-2022-08-20
DTSTART;VALUE=DATE:20220820
DTEND;VALUE=DATE:20220820
DESCRIPTION:Instalación artística en colaboración con la Autoridad Portu
 aria de Santander\, que podrá contemplarse en el exterior del Centro de A
 rte Cabo Mayor\, del 18 julio al 15 de septiembre.
SUMMARY:SpY. Escultura Kinética
END:VEVENT
BEGIN:VEVENT
DTSTAMP:20260421T234310Z
UID:event-2532-2022-08-21-2022-08-21
DTSTART;VALUE=DATE:20220821
DTEND;VALUE=DATE:20220821
DESCRIPTION:Instalación artística en colaboración con la Autoridad Portu
 aria de Santander\, que podrá contemplarse en el exterior del Centro de A
 rte Cabo Mayor\, del 18 julio al 15 de septiembre.
SUMMARY:SpY. Escultura Kinética
END:VEVENT
BEGIN:VEVENT
DTSTAMP:20260421T234310Z
UID:event-2532-2022-08-22-2022-08-22
DTSTART;VALUE=DATE:20220822
DTEND;VALUE=DATE:20220822
DESCRIPTION:Instalación artística en colaboración con la Autoridad Portu
 aria de Santander\, que podrá contemplarse en el exterior del Centro de A
 rte Cabo Mayor\, del 18 julio al 15 de septiembre.
SUMMARY:SpY. Escultura Kinética
END:VEVENT
BEGIN:VEVENT
DTSTAMP:20260421T234310Z
UID:event-2532-2022-08-23-2022-08-23
DTSTART;VALUE=DATE:20220823
DTEND;VALUE=DATE:20220823
DESCRIPTION:Instalación artística en colaboración con la Autoridad Portu
 aria de Santander\, que podrá contemplarse en el exterior del Centro de A
 rte Cabo Mayor\, del 18 julio al 15 de septiembre.
SUMMARY:SpY. Escultura Kinética
END:VEVENT
BEGIN:VEVENT
DTSTAMP:20260421T234310Z
UID:event-2532-2022-08-24-2022-08-24
DTSTART;VALUE=DATE:20220824
DTEND;VALUE=DATE:20220824
DESCRIPTION:Instalación artística en colaboración con la Autoridad Portu
 aria de Santander\, que podrá contemplarse en el exterior del Centro de A
 rte Cabo Mayor\, del 18 julio al 15 de septiembre.
SUMMARY:SpY. Escultura Kinética
END:VEVENT
BEGIN:VEVENT
DTSTAMP:20260421T234310Z
UID:event-2532-2022-08-25-2022-08-25
DTSTART;VALUE=DATE:20220825
DTEND;VALUE=DATE:20220825
DESCRIPTION:Instalación artística en colaboración con la Autoridad Portu
 aria de Santander\, que podrá contemplarse en el exterior del Centro de A
 rte Cabo Mayor\, del 18 julio al 15 de septiembre.
SUMMARY:SpY. Escultura Kinética
END:VEVENT
BEGIN:VEVENT
DTSTAMP:20260421T234310Z
UID:event-2532-2022-08-26-2022-08-26
DTSTART;VALUE=DATE:20220826
DTEND;VALUE=DATE:20220826
DESCRIPTION:Instalación artística en colaboración con la Autoridad Portu
 aria de Santander\, que podrá contemplarse en el exterior del Centro de A
 rte Cabo Mayor\, del 18 julio al 15 de septiembre.
SUMMARY:SpY. Escultura Kinética
END:VEVENT
BEGIN:VEVENT
DTSTAMP:20260421T234310Z
UID:event-2532-2022-08-27-2022-08-27
DTSTART;VALUE=DATE:20220827
DTEND;VALUE=DATE:20220827
DESCRIPTION:Instalación artística en colaboración con la Autoridad Portu
 aria de Santander\, que podrá contemplarse en el exterior del Centro de A
 rte Cabo Mayor\, del 18 julio al 15 de septiembre.
SUMMARY:SpY. Escultura Kinética
END:VEVENT
BEGIN:VEVENT
DTSTAMP:20260421T234310Z
UID:event-2532-2022-08-28-2022-08-28
DTSTART;VALUE=DATE:20220828
DTEND;VALUE=DATE:20220828
DESCRIPTION:Instalación artística en colaboración con la Autoridad Portu
 aria de Santander\, que podrá contemplarse en el exterior del Centro de A
 rte Cabo Mayor\, del 18 julio al 15 de septiembre.
SUMMARY:SpY. Escultura Kinética
END:VEVENT
BEGIN:VEVENT
DTSTAMP:20260421T234310Z
UID:event-2532-2022-08-29-2022-08-29
DTSTART;VALUE=DATE:20220829
DTEND;VALUE=DATE:20220829
DESCRIPTION:Instalación artística en colaboración con la Autoridad Portu
 aria de Santander\, que podrá contemplarse en el exterior del Centro de A
 rte Cabo Mayor\, del 18 julio al 15 de septiembre.
SUMMARY:SpY. Escultura Kinética
END:VEVENT
BEGIN:VEVENT
DTSTAMP:20260421T234310Z
UID:event-2532-2022-08-30-2022-08-30
DTSTART;VALUE=DATE:20220830
DTEND;VALUE=DATE:20220830
DESCRIPTION:Instalación artística en colaboración con la Autoridad Portu
 aria de Santander\, que podrá contemplarse en el exterior del Centro de A
 rte Cabo Mayor\, del 18 julio al 15 de septiembre.
SUMMARY:SpY. Escultura Kinética
END:VEVENT
BEGIN:VEVENT
DTSTAMP:20260421T234310Z
UID:event-2532-2022-08-31-2022-08-31
DTSTART;VALUE=DATE:20220831
DTEND;VALUE=DATE:20220831
DESCRIPTION:Instalación artística en colaboración con la Autoridad Portu
 aria de Santander\, que podrá contemplarse en el exterior del Centro de A
 rte Cabo Mayor\, del 18 julio al 15 de septiembre.
SUMMARY:SpY. Escultura Kinética
END:VEVENT
BEGIN:VEVENT
DTSTAMP:20260421T234310Z
UID:event-2532-2022-09-01-2022-09-01
DTSTART;VALUE=DATE:20220901
DTEND;VALUE=DATE:20220901
DESCRIPTION:Instalación artística en colaboración con la Autoridad Portu
 aria de Santander\, que podrá contemplarse en el exterior del Centro de A
 rte Cabo Mayor\, del 18 julio al 15 de septiembre.
SUMMARY:SpY. Escultura Kinética
END:VEVENT
BEGIN:VEVENT
DTSTAMP:20260421T234310Z
UID:event-2532-2022-09-02-2022-09-02
DTSTART;VALUE=DATE:20220902
DTEND;VALUE=DATE:20220902
DESCRIPTION:Instalación artística en colaboración con la Autoridad Portu
 aria de Santander\, que podrá contemplarse en el exterior del Centro de A
 rte Cabo Mayor\, del 18 julio al 15 de septiembre.
SUMMARY:SpY. Escultura Kinética
END:VEVENT
BEGIN:VEVENT
DTSTAMP:20260421T234310Z
UID:event-2532-2022-09-03-2022-09-03
DTSTART;VALUE=DATE:20220903
DTEND;VALUE=DATE:20220903
DESCRIPTION:Instalación artística en colaboración con la Autoridad Portu
 aria de Santander\, que podrá contemplarse en el exterior del Centro de A
 rte Cabo Mayor\, del 18 julio al 15 de septiembre.
SUMMARY:SpY. Escultura Kinética
END:VEVENT
BEGIN:VEVENT
DTSTAMP:20260421T234310Z
UID:event-2532-2022-09-04-2022-09-04
DTSTART;VALUE=DATE:20220904
DTEND;VALUE=DATE:20220904
DESCRIPTION:Instalación artística en colaboración con la Autoridad Portu
 aria de Santander\, que podrá contemplarse en el exterior del Centro de A
 rte Cabo Mayor\, del 18 julio al 15 de septiembre.
SUMMARY:SpY. Escultura Kinética
END:VEVENT
BEGIN:VEVENT
DTSTAMP:20260421T234310Z
UID:event-2532-2022-09-05-2022-09-05
DTSTART;VALUE=DATE:20220905
DTEND;VALUE=DATE:20220905
DESCRIPTION:Instalación artística en colaboración con la Autoridad Portu
 aria de Santander\, que podrá contemplarse en el exterior del Centro de A
 rte Cabo Mayor\, del 18 julio al 15 de septiembre.
SUMMARY:SpY. Escultura Kinética
END:VEVENT
BEGIN:VEVENT
DTSTAMP:20260421T234310Z
UID:event-2532-2022-09-06-2022-09-06
DTSTART;VALUE=DATE:20220906
DTEND;VALUE=DATE:20220906
DESCRIPTION:Instalación artística en colaboración con la Autoridad Portu
 aria de Santander\, que podrá contemplarse en el exterior del Centro de A
 rte Cabo Mayor\, del 18 julio al 15 de septiembre.
SUMMARY:SpY. Escultura Kinética
END:VEVENT
BEGIN:VEVENT
DTSTAMP:20260421T234310Z
UID:event-2532-2022-09-07-2022-09-07
DTSTART;VALUE=DATE:20220907
DTEND;VALUE=DATE:20220907
DESCRIPTION:Instalación artística en colaboración con la Autoridad Portu
 aria de Santander\, que podrá contemplarse en el exterior del Centro de A
 rte Cabo Mayor\, del 18 julio al 15 de septiembre.
SUMMARY:SpY. Escultura Kinética
END:VEVENT
BEGIN:VEVENT
DTSTAMP:20260421T234310Z
UID:event-2532-2022-09-08-2022-09-08
DTSTART;VALUE=DATE:20220908
DTEND;VALUE=DATE:20220908
DESCRIPTION:Instalación artística en colaboración con la Autoridad Portu
 aria de Santander\, que podrá contemplarse en el exterior del Centro de A
 rte Cabo Mayor\, del 18 julio al 15 de septiembre.
SUMMARY:SpY. Escultura Kinética
END:VEVENT
BEGIN:VEVENT
DTSTAMP:20260421T234310Z
UID:event-2532-2022-09-09-2022-09-09
DTSTART;VALUE=DATE:20220909
DTEND;VALUE=DATE:20220909
DESCRIPTION:Instalación artística en colaboración con la Autoridad Portu
 aria de Santander\, que podrá contemplarse en el exterior del Centro de A
 rte Cabo Mayor\, del 18 julio al 15 de septiembre.
SUMMARY:SpY. Escultura Kinética
END:VEVENT
BEGIN:VEVENT
DTSTAMP:20260421T234310Z
UID:event-2532-2022-09-10-2022-09-10
DTSTART;VALUE=DATE:20220910
DTEND;VALUE=DATE:20220910
DESCRIPTION:Instalación artística en colaboración con la Autoridad Portu
 aria de Santander\, que podrá contemplarse en el exterior del Centro de A
 rte Cabo Mayor\, del 18 julio al 15 de septiembre.
SUMMARY:SpY. Escultura Kinética
END:VEVENT
BEGIN:VEVENT
DTSTAMP:20260421T234310Z
UID:event-2532-2022-09-11-2022-09-11
DTSTART;VALUE=DATE:20220911
DTEND;VALUE=DATE:20220911
DESCRIPTION:Instalación artística en colaboración con la Autoridad Portu
 aria de Santander\, que podrá contemplarse en el exterior del Centro de A
 rte Cabo Mayor\, del 18 julio al 15 de septiembre.
SUMMARY:SpY. Escultura Kinética
END:VEVENT
BEGIN:VEVENT
DTSTAMP:20260421T234310Z
UID:event-2532-2022-09-12-2022-09-12
DTSTART;VALUE=DATE:20220912
DTEND;VALUE=DATE:20220912
DESCRIPTION:Instalación artística en colaboración con la Autoridad Portu
 aria de Santander\, que podrá contemplarse en el exterior del Centro de A
 rte Cabo Mayor\, del 18 julio al 15 de septiembre.
SUMMARY:SpY. Escultura Kinética
END:VEVENT
BEGIN:VEVENT
DTSTAMP:20260421T234310Z
UID:event-2532-2022-09-13-2022-09-13
DTSTART;VALUE=DATE:20220913
DTEND;VALUE=DATE:20220913
DESCRIPTION:Instalación artística en colaboración con la Autoridad Portu
 aria de Santander\, que podrá contemplarse en el exterior del Centro de A
 rte Cabo Mayor\, del 18 julio al 15 de septiembre.
SUMMARY:SpY. Escultura Kinética
END:VEVENT
BEGIN:VEVENT
DTSTAMP:20260421T234310Z
UID:event-2532-2022-09-14-2022-09-14
DTSTART;VALUE=DATE:20220914
DTEND;VALUE=DATE:20220914
DESCRIPTION:Instalación artística en colaboración con la Autoridad Portu
 aria de Santander\, que podrá contemplarse en el exterior del Centro de A
 rte Cabo Mayor\, del 18 julio al 15 de septiembre.
SUMMARY:SpY. Escultura Kinética
END:VEVENT
BEGIN:VEVENT
DTSTAMP:20260421T234310Z
UID:event-2532-2022-09-15-2022-09-15
DTSTART;VALUE=DATE:20220915
DTEND;VALUE=DATE:20220915
DESCRIPTION:Instalación artística en colaboración con la Autoridad Portu
 aria de Santander\, que podrá contemplarse en el exterior del Centro de A
 rte Cabo Mayor\, del 18 julio al 15 de septiembre.
SUMMARY:SpY. Escultura Kinética
END:VEVENT
END:VCALENDAR
