BEGIN:VCALENDAR
VERSION:2.0
PRODID:icalendar-ruby
CALSCALE:GREGORIAN
METHOD:PUBLISH
BEGIN:VEVENT
DTSTAMP:20260421T165025Z
UID:event-20910-2026-02-06T18:00:00+01:00-2026-02-06T20:00:00+01:00
DTSTART;TZID=Europe/Madrid:20260206T180000
DTEND;TZID=Europe/Madrid:20260206T200000
DESCRIPTION:En este taller los participantes diseñarán y modelarán con s
 us manos una taza\, cuenco o un plato\, con opción de realizar su propia 
 idea siempre que encaje en el horario dispuesto para el taller. 
SUMMARY:Taller de cerámica
END:VEVENT
END:VCALENDAR
