BEGIN:VCALENDAR
VERSION:2.0
PRODID:icalendar-ruby
CALSCALE:GREGORIAN
METHOD:PUBLISH
BEGIN:VEVENT
DTSTAMP:20260421T130136Z
UID:event-16305-2025-05-20T10:30:00+02:00-2025-05-20T14:30:00+02:00
DTSTART;TZID=Europe/Madrid:20250520T103000
DTEND;TZID=Europe/Madrid:20250520T143000
DESCRIPTION:Se buscan valientes de verdad\, gente que encaje en la filosof
 ía de creación de la compañía y quiera aprender sobre el neofuturismo 
 y sus aplicaciones sobre el escenario.
SUMMARY:Taller de escritura neofuturista
END:VEVENT
BEGIN:VEVENT
DTSTAMP:20260421T130136Z
UID:event-16305-2025-05-21T10:30:00+02:00-2025-05-21T14:30:00+02:00
DTSTART;TZID=Europe/Madrid:20250521T103000
DTEND;TZID=Europe/Madrid:20250521T143000
DESCRIPTION:Se buscan valientes de verdad\, gente que encaje en la filosof
 ía de creación de la compañía y quiera aprender sobre el neofuturismo 
 y sus aplicaciones sobre el escenario.
SUMMARY:Taller de escritura neofuturista
END:VEVENT
BEGIN:VEVENT
DTSTAMP:20260421T130136Z
UID:event-16305-2025-05-22T10:30:00+02:00-2025-05-22T14:30:00+02:00
DTSTART;TZID=Europe/Madrid:20250522T103000
DTEND;TZID=Europe/Madrid:20250522T143000
DESCRIPTION:Se buscan valientes de verdad\, gente que encaje en la filosof
 ía de creación de la compañía y quiera aprender sobre el neofuturismo 
 y sus aplicaciones sobre el escenario.
SUMMARY:Taller de escritura neofuturista
END:VEVENT
END:VCALENDAR
