BEGIN:VCALENDAR
VERSION:2.0
PRODID:icalendar-ruby
CALSCALE:GREGORIAN
METHOD:PUBLISH
BEGIN:VEVENT
DTSTAMP:20260423T153738Z
UID:event-17268-2025-07-21T18:00:00+02:00-2025-07-21T20:00:00+02:00
DTSTART;TZID=Europe/Madrid:20250721T180000
DTEND;TZID=Europe/Madrid:20250721T200000
DESCRIPTION:Este verano\, la Asociación Profesional de Fotoperiodistas Cá
 ntabros te invita a sumergirte en el fotoperiodismo. En cinco sesiones te
 órico-prácticas podrás acercarte a esta práctica fotográfica específ
 ica y a su profesión.
SUMMARY:Taller de Fotoperiodismo "Educar la mirada"
END:VEVENT
BEGIN:VEVENT
DTSTAMP:20260423T153738Z
UID:event-17268-2025-08-04T18:00:00+02:00-2025-08-04T20:00:00+02:00
DTSTART;TZID=Europe/Madrid:20250804T180000
DTEND;TZID=Europe/Madrid:20250804T200000
DESCRIPTION:Este verano\, la Asociación Profesional de Fotoperiodistas Cá
 ntabros te invita a sumergirte en el fotoperiodismo. En cinco sesiones te
 órico-prácticas podrás acercarte a esta práctica fotográfica específ
 ica y a su profesión.
SUMMARY:Taller de Fotoperiodismo "Educar la mirada"
END:VEVENT
BEGIN:VEVENT
DTSTAMP:20260423T153738Z
UID:event-17268-2025-08-05T18:00:00+02:00-2025-08-05T20:00:00+02:00
DTSTART;TZID=Europe/Madrid:20250805T180000
DTEND;TZID=Europe/Madrid:20250805T200000
DESCRIPTION:Este verano\, la Asociación Profesional de Fotoperiodistas Cá
 ntabros te invita a sumergirte en el fotoperiodismo. En cinco sesiones te
 órico-prácticas podrás acercarte a esta práctica fotográfica específ
 ica y a su profesión.
SUMMARY:Taller de Fotoperiodismo "Educar la mirada"
END:VEVENT
BEGIN:VEVENT
DTSTAMP:20260423T153738Z
UID:event-17268-2025-09-01T18:00:00+02:00-2025-09-01T20:00:00+02:00
DTSTART;TZID=Europe/Madrid:20250901T180000
DTEND;TZID=Europe/Madrid:20250901T200000
DESCRIPTION:Este verano\, la Asociación Profesional de Fotoperiodistas Cá
 ntabros te invita a sumergirte en el fotoperiodismo. En cinco sesiones te
 órico-prácticas podrás acercarte a esta práctica fotográfica específ
 ica y a su profesión.
SUMMARY:Taller de Fotoperiodismo "Educar la mirada"
END:VEVENT
BEGIN:VEVENT
DTSTAMP:20260423T153738Z
UID:event-17268-2025-07-30T18:00:00+02:00-2025-07-30T20:00:00+02:00
DTSTART;TZID=Europe/Madrid:20250730T180000
DTEND;TZID=Europe/Madrid:20250730T200000
DESCRIPTION:Este verano\, la Asociación Profesional de Fotoperiodistas Cá
 ntabros te invita a sumergirte en el fotoperiodismo. En cinco sesiones te
 órico-prácticas podrás acercarte a esta práctica fotográfica específ
 ica y a su profesión.
SUMMARY:Taller de Fotoperiodismo "Educar la mirada"
END:VEVENT
END:VCALENDAR
