BEGIN:VCALENDAR
VERSION:2.0
PRODID:icalendar-ruby
CALSCALE:GREGORIAN
METHOD:PUBLISH
BEGIN:VEVENT
DTSTAMP:20260425T165347Z
UID:event-21378-2026-03-07T11:00:00+01:00-2026-03-07T14:00:00+01:00
DTSTART;TZID=Europe/Madrid:20260307T110000
DTEND;TZID=Europe/Madrid:20260307T140000
DESCRIPTION:Ume en Japón\, es el ciruelo florecido. Mediante el uso de la 
 tinta china y el color de la acuarela oriental\, practicarás las distinta
 s partes de la planta y los diversos tipos de pinceladas para representar 
 este bello árbol.
SUMMARY:Taller de pintura tradicional japonesa\, Sumi-E: "La floración de 
 los ciruelos"
END:VEVENT
END:VCALENDAR
