BEGIN:VCALENDAR
VERSION:2.0
PRODID:icalendar-ruby
CALSCALE:GREGORIAN
METHOD:PUBLISH
BEGIN:VEVENT
DTSTAMP:20260421T165010Z
UID:event-20955-2026-02-27T18:00:00+01:00-2026-02-27T20:30:00+01:00
DTSTART;TZID=Europe/Madrid:20260227T180000
DTEND;TZID=Europe/Madrid:20260227T203000
DESCRIPTION:A partir de pinceles especiales para tinta china\, se irán pra
 cticando distintos tipos de pinceladas y de cargas para representar cada u
 na de las partes de uno de los Cuatro Honorables Caballeros de la pintura 
 tradicional oriental: Ume.
SUMMARY:Taller especial: Representación del ciruelo en flor
END:VEVENT
BEGIN:VEVENT
DTSTAMP:20260421T165010Z
UID:event-20955-2026-02-28T11:00:00+01:00-2026-02-28T13:30:00+01:00
DTSTART;TZID=Europe/Madrid:20260228T110000
DTEND;TZID=Europe/Madrid:20260228T133000
DESCRIPTION:A partir de pinceles especiales para tinta china\, se irán pra
 cticando distintos tipos de pinceladas y de cargas para representar cada u
 na de las partes de uno de los Cuatro Honorables Caballeros de la pintura 
 tradicional oriental: Ume.
SUMMARY:Taller especial: Representación del ciruelo en flor
END:VEVENT
END:VCALENDAR
