BEGIN:VCALENDAR
VERSION:2.0
PRODID:icalendar-ruby
CALSCALE:GREGORIAN
METHOD:PUBLISH
BEGIN:VEVENT
DTSTAMP:20260420T142208Z
UID:event-22240-2026-04-22T19:30:00+02:00-none
DTSTART;TZID=Europe/Madrid:20260422T193000
DESCRIPTION:Plantean este taller\, que busca ser un espacio de exploración
  donde entrenar y profundizar en diferentes habilidades para indagar en el
  consentimiento\, poniendo en valor nuestros sentires y sensares.
SUMMARY:Taller: Practicando el consentimiento
END:VEVENT
END:VCALENDAR
