BEGIN:VCALENDAR
VERSION:2.0
PRODID:icalendar-ruby
CALSCALE:GREGORIAN
METHOD:PUBLISH
BEGIN:VEVENT
DTSTAMP:20260422T170053Z
UID:event-4675-2023-03-10T19:30:00+01:00-none
DTSTART;TZID=Europe/Madrid:20230310T193000
DESCRIPTION:La protagonista del drama\, Electra\, es una joven de dieciocho
  años de padre desconocido\, que tras la muerte de su madre Eleuteria fue
  acogida por su tía Evarista y su marido\, don Urbano.
SUMMARY:Teatro: "Electra" de Benito Pérez Galdós
END:VEVENT
END:VCALENDAR
