BEGIN:VCALENDAR
VERSION:2.0
PRODID:icalendar-ruby
CALSCALE:GREGORIAN
METHOD:PUBLISH
BEGIN:VEVENT
DTSTAMP:20260424T164858Z
UID:event-11025-2024-06-15T20:30:00+02:00-none
DTSTART;TZID=Europe/Madrid:20240615T203000
DESCRIPTION:Esta no es su primera visita a Europa aunque quizás sea la má
 s esperada. Nicole Laurnne (voz\, órgano farfisa)\, Meliza Jackson (guita
 rra)\, Christina Núñez (bajo) y Velvet Hammer (batería) llegan para des
 cargar los temas de Snake Oil.
SUMMARY:The Darts\, explosivo cóctel de garage rock
END:VEVENT
END:VCALENDAR
