BEGIN:VCALENDAR
VERSION:2.0
PRODID:icalendar-ruby
CALSCALE:GREGORIAN
METHOD:PUBLISH
BEGIN:VEVENT
DTSTAMP:20260420T143603Z
UID:event-13995-2024-11-19T21:00:00+01:00-none
DTSTART;TZID=Europe/Madrid:20241119T210000
DESCRIPTION:Aoki y Harutaka grabaron juntos durante un par de años y esta 
 es su primera colaboración nueva después de un notable CD autoeditado qu
 e vio la luz en 2014. Y grabaron "Enka Mood Collection" para el sello AN'A
 RCHIVES en 2016.
SUMMARY:Tomoyuki Aoki & Harutaka Mochizuki
END:VEVENT
END:VCALENDAR
