BEGIN:VCALENDAR
VERSION:2.0
PRODID:icalendar-ruby
CALSCALE:GREGORIAN
METHOD:PUBLISH
BEGIN:VEVENT
DTSTAMP:20260424T143616Z
UID:event-17119-2025-06-13T19:00:00+02:00-none
DTSTART;TZID=Europe/Madrid:20250613T190000
DESCRIPTION:En esta sesión final\, titulada ‘Desafíos venideros\, soluc
 iones colectivas: cambio climático\, turistificación y salud global’\,
  se abordarán cuestiones clave que afectan ya hoy a Santander y su entorn
 o. 
SUMMARY:Última mesa redonda del ciclo "La ciudad: realidades\, experiencia
 s y desafíos"
END:VEVENT
END:VCALENDAR
