BEGIN:VCALENDAR
VERSION:2.0
PRODID:icalendar-ruby
CALSCALE:GREGORIAN
METHOD:PUBLISH
BEGIN:VEVENT
DTSTAMP:20260425T164235Z
UID:event-7001-2023-07-13T19:00:00+02:00-none
DTSTART;TZID=Europe/Madrid:20230713T190000
DESCRIPTION:Versión cinematográfica del popular musical de ABBA. Una jove
 n (Amanda Seyfried) que ha crecido en una pequeña isla griega\, ha sido e
 ducada por una madre rebelde y poco convencional (Streep).
SUMMARY:Un verano de cine: Mamma Mia! La película
END:VEVENT
END:VCALENDAR
