BEGIN:VCALENDAR
VERSION:2.0
PRODID:icalendar-ruby
CALSCALE:GREGORIAN
METHOD:PUBLISH
BEGIN:VEVENT
DTSTAMP:20260423T161404Z
UID:event-13545-2024-11-29T11:00:00+01:00-none
DTSTART;TZID=Europe/Madrid:20241129T110000
DESCRIPTION:Este mes de noviembre\, el retrato elegido es Figura de medio c
 uerpo de Isidre Nonell. Ve al Centro Botín\, entra en la sala de exposici
 ones y busca la obra. ¿Quién dijo que el arte era aburrido?
SUMMARY:Una obra en diez minutos: "Figura de medio cuerpo"\, de Isidre None
 ll
END:VEVENT
BEGIN:VEVENT
DTSTAMP:20260423T161404Z
UID:event-13545-2024-11-29T17:00:00+01:00-none
DTSTART;TZID=Europe/Madrid:20241129T170000
DESCRIPTION:Este mes de noviembre\, el retrato elegido es Figura de medio c
 uerpo de Isidre Nonell. Ve al Centro Botín\, entra en la sala de exposici
 ones y busca la obra. ¿Quién dijo que el arte era aburrido?
SUMMARY:Una obra en diez minutos: "Figura de medio cuerpo"\, de Isidre None
 ll
END:VEVENT
BEGIN:VEVENT
DTSTAMP:20260423T161404Z
UID:event-13545-2024-11-30T11:00:00+01:00-none
DTSTART;TZID=Europe/Madrid:20241130T110000
DESCRIPTION:Este mes de noviembre\, el retrato elegido es Figura de medio c
 uerpo de Isidre Nonell. Ve al Centro Botín\, entra en la sala de exposici
 ones y busca la obra. ¿Quién dijo que el arte era aburrido?
SUMMARY:Una obra en diez minutos: "Figura de medio cuerpo"\, de Isidre None
 ll
END:VEVENT
BEGIN:VEVENT
DTSTAMP:20260423T161404Z
UID:event-13545-2024-11-30T17:00:00+01:00-none
DTSTART;TZID=Europe/Madrid:20241130T170000
DESCRIPTION:Este mes de noviembre\, el retrato elegido es Figura de medio c
 uerpo de Isidre Nonell. Ve al Centro Botín\, entra en la sala de exposici
 ones y busca la obra. ¿Quién dijo que el arte era aburrido?
SUMMARY:Una obra en diez minutos: "Figura de medio cuerpo"\, de Isidre None
 ll
END:VEVENT
BEGIN:VEVENT
DTSTAMP:20260423T161404Z
UID:event-13545-2024-12-01T11:00:00+01:00-none
DTSTART;TZID=Europe/Madrid:20241201T110000
DESCRIPTION:Este mes de noviembre\, el retrato elegido es Figura de medio c
 uerpo de Isidre Nonell. Ve al Centro Botín\, entra en la sala de exposici
 ones y busca la obra. ¿Quién dijo que el arte era aburrido?
SUMMARY:Una obra en diez minutos: "Figura de medio cuerpo"\, de Isidre None
 ll
END:VEVENT
BEGIN:VEVENT
DTSTAMP:20260423T161404Z
UID:event-13545-2024-12-01T17:00:00+01:00-none
DTSTART;TZID=Europe/Madrid:20241201T170000
DESCRIPTION:Este mes de noviembre\, el retrato elegido es Figura de medio c
 uerpo de Isidre Nonell. Ve al Centro Botín\, entra en la sala de exposici
 ones y busca la obra. ¿Quién dijo que el arte era aburrido?
SUMMARY:Una obra en diez minutos: "Figura de medio cuerpo"\, de Isidre None
 ll
END:VEVENT
BEGIN:VEVENT
DTSTAMP:20260423T161404Z
UID:event-13545-2024-12-02T11:00:00+01:00-none
DTSTART;TZID=Europe/Madrid:20241202T110000
DESCRIPTION:Este mes de noviembre\, el retrato elegido es Figura de medio c
 uerpo de Isidre Nonell. Ve al Centro Botín\, entra en la sala de exposici
 ones y busca la obra. ¿Quién dijo que el arte era aburrido?
SUMMARY:Una obra en diez minutos: "Figura de medio cuerpo"\, de Isidre None
 ll
END:VEVENT
BEGIN:VEVENT
DTSTAMP:20260423T161404Z
UID:event-13545-2024-12-02T17:00:00+01:00-none
DTSTART;TZID=Europe/Madrid:20241202T170000
DESCRIPTION:Este mes de noviembre\, el retrato elegido es Figura de medio c
 uerpo de Isidre Nonell. Ve al Centro Botín\, entra en la sala de exposici
 ones y busca la obra. ¿Quién dijo que el arte era aburrido?
SUMMARY:Una obra en diez minutos: "Figura de medio cuerpo"\, de Isidre None
 ll
END:VEVENT
BEGIN:VEVENT
DTSTAMP:20260423T161404Z
UID:event-13545-2024-12-03T11:00:00+01:00-none
DTSTART;TZID=Europe/Madrid:20241203T110000
DESCRIPTION:Este mes de noviembre\, el retrato elegido es Figura de medio c
 uerpo de Isidre Nonell. Ve al Centro Botín\, entra en la sala de exposici
 ones y busca la obra. ¿Quién dijo que el arte era aburrido?
SUMMARY:Una obra en diez minutos: "Figura de medio cuerpo"\, de Isidre None
 ll
END:VEVENT
BEGIN:VEVENT
DTSTAMP:20260423T161404Z
UID:event-13545-2024-12-03T17:00:00+01:00-none
DTSTART;TZID=Europe/Madrid:20241203T170000
DESCRIPTION:Este mes de noviembre\, el retrato elegido es Figura de medio c
 uerpo de Isidre Nonell. Ve al Centro Botín\, entra en la sala de exposici
 ones y busca la obra. ¿Quién dijo que el arte era aburrido?
SUMMARY:Una obra en diez minutos: "Figura de medio cuerpo"\, de Isidre None
 ll
END:VEVENT
BEGIN:VEVENT
DTSTAMP:20260423T161404Z
UID:event-13545-2024-12-04T11:00:00+01:00-none
DTSTART;TZID=Europe/Madrid:20241204T110000
DESCRIPTION:Este mes de noviembre\, el retrato elegido es Figura de medio c
 uerpo de Isidre Nonell. Ve al Centro Botín\, entra en la sala de exposici
 ones y busca la obra. ¿Quién dijo que el arte era aburrido?
SUMMARY:Una obra en diez minutos: "Figura de medio cuerpo"\, de Isidre None
 ll
END:VEVENT
BEGIN:VEVENT
DTSTAMP:20260423T161404Z
UID:event-13545-2024-12-04T17:00:00+01:00-none
DTSTART;TZID=Europe/Madrid:20241204T170000
DESCRIPTION:Este mes de noviembre\, el retrato elegido es Figura de medio c
 uerpo de Isidre Nonell. Ve al Centro Botín\, entra en la sala de exposici
 ones y busca la obra. ¿Quién dijo que el arte era aburrido?
SUMMARY:Una obra en diez minutos: "Figura de medio cuerpo"\, de Isidre None
 ll
END:VEVENT
BEGIN:VEVENT
DTSTAMP:20260423T161404Z
UID:event-13545-2024-12-05T11:00:00+01:00-none
DTSTART;TZID=Europe/Madrid:20241205T110000
DESCRIPTION:Este mes de noviembre\, el retrato elegido es Figura de medio c
 uerpo de Isidre Nonell. Ve al Centro Botín\, entra en la sala de exposici
 ones y busca la obra. ¿Quién dijo que el arte era aburrido?
SUMMARY:Una obra en diez minutos: "Figura de medio cuerpo"\, de Isidre None
 ll
END:VEVENT
BEGIN:VEVENT
DTSTAMP:20260423T161404Z
UID:event-13545-2024-12-05T17:00:00+01:00-none
DTSTART;TZID=Europe/Madrid:20241205T170000
DESCRIPTION:Este mes de noviembre\, el retrato elegido es Figura de medio c
 uerpo de Isidre Nonell. Ve al Centro Botín\, entra en la sala de exposici
 ones y busca la obra. ¿Quién dijo que el arte era aburrido?
SUMMARY:Una obra en diez minutos: "Figura de medio cuerpo"\, de Isidre None
 ll
END:VEVENT
BEGIN:VEVENT
DTSTAMP:20260423T161404Z
UID:event-13545-2024-12-06T11:00:00+01:00-none
DTSTART;TZID=Europe/Madrid:20241206T110000
DESCRIPTION:Este mes de noviembre\, el retrato elegido es Figura de medio c
 uerpo de Isidre Nonell. Ve al Centro Botín\, entra en la sala de exposici
 ones y busca la obra. ¿Quién dijo que el arte era aburrido?
SUMMARY:Una obra en diez minutos: "Figura de medio cuerpo"\, de Isidre None
 ll
END:VEVENT
BEGIN:VEVENT
DTSTAMP:20260423T161404Z
UID:event-13545-2024-12-06T17:00:00+01:00-none
DTSTART;TZID=Europe/Madrid:20241206T170000
DESCRIPTION:Este mes de noviembre\, el retrato elegido es Figura de medio c
 uerpo de Isidre Nonell. Ve al Centro Botín\, entra en la sala de exposici
 ones y busca la obra. ¿Quién dijo que el arte era aburrido?
SUMMARY:Una obra en diez minutos: "Figura de medio cuerpo"\, de Isidre None
 ll
END:VEVENT
BEGIN:VEVENT
DTSTAMP:20260423T161404Z
UID:event-13545-2024-12-07T11:00:00+01:00-none
DTSTART;TZID=Europe/Madrid:20241207T110000
DESCRIPTION:Este mes de noviembre\, el retrato elegido es Figura de medio c
 uerpo de Isidre Nonell. Ve al Centro Botín\, entra en la sala de exposici
 ones y busca la obra. ¿Quién dijo que el arte era aburrido?
SUMMARY:Una obra en diez minutos: "Figura de medio cuerpo"\, de Isidre None
 ll
END:VEVENT
BEGIN:VEVENT
DTSTAMP:20260423T161404Z
UID:event-13545-2024-12-07T17:00:00+01:00-none
DTSTART;TZID=Europe/Madrid:20241207T170000
DESCRIPTION:Este mes de noviembre\, el retrato elegido es Figura de medio c
 uerpo de Isidre Nonell. Ve al Centro Botín\, entra en la sala de exposici
 ones y busca la obra. ¿Quién dijo que el arte era aburrido?
SUMMARY:Una obra en diez minutos: "Figura de medio cuerpo"\, de Isidre None
 ll
END:VEVENT
BEGIN:VEVENT
DTSTAMP:20260423T161404Z
UID:event-13545-2024-12-08T11:00:00+01:00-none
DTSTART;TZID=Europe/Madrid:20241208T110000
DESCRIPTION:Este mes de noviembre\, el retrato elegido es Figura de medio c
 uerpo de Isidre Nonell. Ve al Centro Botín\, entra en la sala de exposici
 ones y busca la obra. ¿Quién dijo que el arte era aburrido?
SUMMARY:Una obra en diez minutos: "Figura de medio cuerpo"\, de Isidre None
 ll
END:VEVENT
BEGIN:VEVENT
DTSTAMP:20260423T161404Z
UID:event-13545-2024-12-08T17:00:00+01:00-none
DTSTART;TZID=Europe/Madrid:20241208T170000
DESCRIPTION:Este mes de noviembre\, el retrato elegido es Figura de medio c
 uerpo de Isidre Nonell. Ve al Centro Botín\, entra en la sala de exposici
 ones y busca la obra. ¿Quién dijo que el arte era aburrido?
SUMMARY:Una obra en diez minutos: "Figura de medio cuerpo"\, de Isidre None
 ll
END:VEVENT
END:VCALENDAR
