BEGIN:VCALENDAR
VERSION:2.0
PRODID:icalendar-ruby
CALSCALE:GREGORIAN
METHOD:PUBLISH
BEGIN:VEVENT
DTSTAMP:20260420T143738Z
UID:event-22279-2026-04-22T18:30:00+02:00-none
DTSTART;TZID=Europe/Madrid:20260422T183000
DESCRIPTION:Una tarde de literatura\, conversación y autógrafos con Paola
  Mendieta y Sonia Simón en la Cooperativa del Campo de San Román.
SUMMARY:Una tarde de literatura con Paola Mendieta y Sonia Simón
END:VEVENT
END:VCALENDAR
