BEGIN:VCALENDAR
VERSION:2.0
PRODID:icalendar-ruby
CALSCALE:GREGORIAN
METHOD:PUBLISH
BEGIN:VEVENT
DTSTAMP:20260421T165836Z
UID:event-18536-2025-09-22-2025-09-22
DTSTART;VALUE=DATE:20250922
DTEND;VALUE=DATE:20250922
DESCRIPTION:En este curso de ocho semanas\, cada martes podrás entablar un
  diálogo con un/a artista y experimentar su lenguaje creativo y\, el vier
 nes de esa semana\, visitar un espacio cultural público de la ciudad.
SUMMARY:Únete al proyecto de públicos "Argamasa"
END:VEVENT
BEGIN:VEVENT
DTSTAMP:20260421T165836Z
UID:event-18536-2025-09-23-2025-09-23
DTSTART;VALUE=DATE:20250923
DTEND;VALUE=DATE:20250923
DESCRIPTION:En este curso de ocho semanas\, cada martes podrás entablar un
  diálogo con un/a artista y experimentar su lenguaje creativo y\, el vier
 nes de esa semana\, visitar un espacio cultural público de la ciudad.
SUMMARY:Únete al proyecto de públicos "Argamasa"
END:VEVENT
BEGIN:VEVENT
DTSTAMP:20260421T165836Z
UID:event-18536-2025-09-24-2025-09-24
DTSTART;VALUE=DATE:20250924
DTEND;VALUE=DATE:20250924
DESCRIPTION:En este curso de ocho semanas\, cada martes podrás entablar un
  diálogo con un/a artista y experimentar su lenguaje creativo y\, el vier
 nes de esa semana\, visitar un espacio cultural público de la ciudad.
SUMMARY:Únete al proyecto de públicos "Argamasa"
END:VEVENT
BEGIN:VEVENT
DTSTAMP:20260421T165836Z
UID:event-18536-2025-09-25-2025-09-25
DTSTART;VALUE=DATE:20250925
DTEND;VALUE=DATE:20250925
DESCRIPTION:En este curso de ocho semanas\, cada martes podrás entablar un
  diálogo con un/a artista y experimentar su lenguaje creativo y\, el vier
 nes de esa semana\, visitar un espacio cultural público de la ciudad.
SUMMARY:Únete al proyecto de públicos "Argamasa"
END:VEVENT
BEGIN:VEVENT
DTSTAMP:20260421T165836Z
UID:event-18536-2025-09-26-2025-09-26
DTSTART;VALUE=DATE:20250926
DTEND;VALUE=DATE:20250926
DESCRIPTION:En este curso de ocho semanas\, cada martes podrás entablar un
  diálogo con un/a artista y experimentar su lenguaje creativo y\, el vier
 nes de esa semana\, visitar un espacio cultural público de la ciudad.
SUMMARY:Únete al proyecto de públicos "Argamasa"
END:VEVENT
END:VCALENDAR
