BEGIN:VCALENDAR
VERSION:2.0
PRODID:icalendar-ruby
CALSCALE:GREGORIAN
METHOD:PUBLISH
BEGIN:VEVENT
DTSTAMP:20260421T164545Z
UID:event-22337-2026-04-23T11:00:00+02:00-2026-04-23T12:30:00+02:00
DTSTART;TZID=Europe/Madrid:20260423T110000
DTEND;TZID=Europe/Madrid:20260423T123000
DESCRIPTION:Celebra el Día del libro 2026 conociendo la Biblioteca Univers
 itaria. Acude a la visita guiada que han organizado para el 23 de abril. 
SUMMARY:Visita guiada a la Biblioteca de la Universidad de Cantabria
END:VEVENT
END:VCALENDAR
