BEGIN:VCALENDAR
VERSION:2.0
PRODID:icalendar-ruby
CALSCALE:GREGORIAN
METHOD:PUBLISH
BEGIN:VEVENT
DTSTAMP:20260421T234353Z
UID:event-2644-2022-08-13T12:15:00+02:00-none
DTSTART;TZID=Europe/Madrid:20220813T121500
DESCRIPTION:El Palacio de la Magdalena estrena nuevas visitas teatralizadas
 \, una propuesta escénica diseñada para dar a conocer la historia y los 
 rincones de este emblemático edificio de una forma diferente y divertida.
SUMMARY:Visitas teatralizadas al Palacio de la Magdalena
END:VEVENT
BEGIN:VEVENT
DTSTAMP:20260421T234353Z
UID:event-2644-2022-08-13T13:15:00+02:00-none
DTSTART;TZID=Europe/Madrid:20220813T131500
DESCRIPTION:El Palacio de la Magdalena estrena nuevas visitas teatralizadas
 \, una propuesta escénica diseñada para dar a conocer la historia y los 
 rincones de este emblemático edificio de una forma diferente y divertida.
SUMMARY:Visitas teatralizadas al Palacio de la Magdalena
END:VEVENT
BEGIN:VEVENT
DTSTAMP:20260421T234353Z
UID:event-2644-2022-08-14T12:15:00+02:00-none
DTSTART;TZID=Europe/Madrid:20220814T121500
DESCRIPTION:El Palacio de la Magdalena estrena nuevas visitas teatralizadas
 \, una propuesta escénica diseñada para dar a conocer la historia y los 
 rincones de este emblemático edificio de una forma diferente y divertida.
SUMMARY:Visitas teatralizadas al Palacio de la Magdalena
END:VEVENT
BEGIN:VEVENT
DTSTAMP:20260421T234353Z
UID:event-2644-2022-08-14T13:15:00+02:00-none
DTSTART;TZID=Europe/Madrid:20220814T131500
DESCRIPTION:El Palacio de la Magdalena estrena nuevas visitas teatralizadas
 \, una propuesta escénica diseñada para dar a conocer la historia y los 
 rincones de este emblemático edificio de una forma diferente y divertida.
SUMMARY:Visitas teatralizadas al Palacio de la Magdalena
END:VEVENT
BEGIN:VEVENT
DTSTAMP:20260421T234353Z
UID:event-2644-2022-08-20T17:15:00+02:00-none
DTSTART;TZID=Europe/Madrid:20220820T171500
DESCRIPTION:El Palacio de la Magdalena estrena nuevas visitas teatralizadas
 \, una propuesta escénica diseñada para dar a conocer la historia y los 
 rincones de este emblemático edificio de una forma diferente y divertida.
SUMMARY:Visitas teatralizadas al Palacio de la Magdalena
END:VEVENT
BEGIN:VEVENT
DTSTAMP:20260421T234353Z
UID:event-2644-2022-08-21T12:15:00+02:00-none
DTSTART;TZID=Europe/Madrid:20220821T121500
DESCRIPTION:El Palacio de la Magdalena estrena nuevas visitas teatralizadas
 \, una propuesta escénica diseñada para dar a conocer la historia y los 
 rincones de este emblemático edificio de una forma diferente y divertida.
SUMMARY:Visitas teatralizadas al Palacio de la Magdalena
END:VEVENT
BEGIN:VEVENT
DTSTAMP:20260421T234353Z
UID:event-2644-2022-08-21T13:15:00+02:00-none
DTSTART;TZID=Europe/Madrid:20220821T131500
DESCRIPTION:El Palacio de la Magdalena estrena nuevas visitas teatralizadas
 \, una propuesta escénica diseñada para dar a conocer la historia y los 
 rincones de este emblemático edificio de una forma diferente y divertida.
SUMMARY:Visitas teatralizadas al Palacio de la Magdalena
END:VEVENT
BEGIN:VEVENT
DTSTAMP:20260421T234353Z
UID:event-2644-2022-08-27T12:15:00+02:00-none
DTSTART;TZID=Europe/Madrid:20220827T121500
DESCRIPTION:El Palacio de la Magdalena estrena nuevas visitas teatralizadas
 \, una propuesta escénica diseñada para dar a conocer la historia y los 
 rincones de este emblemático edificio de una forma diferente y divertida.
SUMMARY:Visitas teatralizadas al Palacio de la Magdalena
END:VEVENT
BEGIN:VEVENT
DTSTAMP:20260421T234353Z
UID:event-2644-2022-08-27T13:15:00+02:00-none
DTSTART;TZID=Europe/Madrid:20220827T131500
DESCRIPTION:El Palacio de la Magdalena estrena nuevas visitas teatralizadas
 \, una propuesta escénica diseñada para dar a conocer la historia y los 
 rincones de este emblemático edificio de una forma diferente y divertida.
SUMMARY:Visitas teatralizadas al Palacio de la Magdalena
END:VEVENT
BEGIN:VEVENT
DTSTAMP:20260421T234353Z
UID:event-2644-2022-08-27T17:15:00+02:00-none
DTSTART;TZID=Europe/Madrid:20220827T171500
DESCRIPTION:El Palacio de la Magdalena estrena nuevas visitas teatralizadas
 \, una propuesta escénica diseñada para dar a conocer la historia y los 
 rincones de este emblemático edificio de una forma diferente y divertida.
SUMMARY:Visitas teatralizadas al Palacio de la Magdalena
END:VEVENT
BEGIN:VEVENT
DTSTAMP:20260421T234353Z
UID:event-2644-2022-08-28T12:15:00+02:00-none
DTSTART;TZID=Europe/Madrid:20220828T121500
DESCRIPTION:El Palacio de la Magdalena estrena nuevas visitas teatralizadas
 \, una propuesta escénica diseñada para dar a conocer la historia y los 
 rincones de este emblemático edificio de una forma diferente y divertida.
SUMMARY:Visitas teatralizadas al Palacio de la Magdalena
END:VEVENT
BEGIN:VEVENT
DTSTAMP:20260421T234353Z
UID:event-2644-2022-08-28T13:15:00+02:00-none
DTSTART;TZID=Europe/Madrid:20220828T131500
DESCRIPTION:El Palacio de la Magdalena estrena nuevas visitas teatralizadas
 \, una propuesta escénica diseñada para dar a conocer la historia y los 
 rincones de este emblemático edificio de una forma diferente y divertida.
SUMMARY:Visitas teatralizadas al Palacio de la Magdalena
END:VEVENT
END:VCALENDAR
