BEGIN:VCALENDAR
VERSION:2.0
PRODID:icalendar-ruby
CALSCALE:GREGORIAN
METHOD:PUBLISH
BEGIN:VEVENT
DTSTAMP:20260421T234209Z
UID:event-2198-2022-08-17T19:30:00+02:00-none
DTSTART;TZID=Europe/Madrid:20220817T193000
DESCRIPTION:Valladolid\, septiembre de 1989. David y Layla acaban de empeza
 r Octavo de E.G.B. y les gusta mucho “Hombres G”.
SUMMARY:"Voy a pasármelo bien"\, de David Serrano
END:VEVENT
BEGIN:VEVENT
DTSTAMP:20260421T234209Z
UID:event-2198-2022-08-18T17:00:00+02:00-none
DTSTART;TZID=Europe/Madrid:20220818T170000
DESCRIPTION:Valladolid\, septiembre de 1989. David y Layla acaban de empeza
 r Octavo de E.G.B. y les gusta mucho “Hombres G”.
SUMMARY:"Voy a pasármelo bien"\, de David Serrano
END:VEVENT
BEGIN:VEVENT
DTSTAMP:20260421T234209Z
UID:event-2198-2022-08-18T22:10:00+02:00-none
DTSTART;TZID=Europe/Madrid:20220818T221000
DESCRIPTION:Valladolid\, septiembre de 1989. David y Layla acaban de empeza
 r Octavo de E.G.B. y les gusta mucho “Hombres G”.
SUMMARY:"Voy a pasármelo bien"\, de David Serrano
END:VEVENT
BEGIN:VEVENT
DTSTAMP:20260421T234209Z
UID:event-2198-2022-08-19T19:30:00+02:00-none
DTSTART;TZID=Europe/Madrid:20220819T193000
DESCRIPTION:Valladolid\, septiembre de 1989. David y Layla acaban de empeza
 r Octavo de E.G.B. y les gusta mucho “Hombres G”.
SUMMARY:"Voy a pasármelo bien"\, de David Serrano
END:VEVENT
BEGIN:VEVENT
DTSTAMP:20260421T234209Z
UID:event-2198-2022-08-20T17:00:00+02:00-none
DTSTART;TZID=Europe/Madrid:20220820T170000
DESCRIPTION:Valladolid\, septiembre de 1989. David y Layla acaban de empeza
 r Octavo de E.G.B. y les gusta mucho “Hombres G”.
SUMMARY:"Voy a pasármelo bien"\, de David Serrano
END:VEVENT
BEGIN:VEVENT
DTSTAMP:20260421T234209Z
UID:event-2198-2022-08-20T22:10:00+02:00-none
DTSTART;TZID=Europe/Madrid:20220820T221000
DESCRIPTION:Valladolid\, septiembre de 1989. David y Layla acaban de empeza
 r Octavo de E.G.B. y les gusta mucho “Hombres G”.
SUMMARY:"Voy a pasármelo bien"\, de David Serrano
END:VEVENT
BEGIN:VEVENT
DTSTAMP:20260421T234209Z
UID:event-2198-2022-08-21T19:45:00+02:00-none
DTSTART;TZID=Europe/Madrid:20220821T194500
DESCRIPTION:Valladolid\, septiembre de 1989. David y Layla acaban de empeza
 r Octavo de E.G.B. y les gusta mucho “Hombres G”.
SUMMARY:"Voy a pasármelo bien"\, de David Serrano
END:VEVENT
END:VCALENDAR
